BEGIN:VCALENDAR
VERSION:2.0
CALSCALE:GREGORIAN
METHOD:PUBLISH
PRODID://OROV//1426758
BEGIN:VEVENT
DTSTAMP:20260421T061338
VTIMEZONE:America/Los_Angeles
DTSTART:20260630T160000Z
DTEND:20260630T180000Z
UID:1426758
SUMMARY:Introduction to Digital/Online Marketing
LOCATION:Barrell Room, 1566 Huntoon St., Oroville, CA, 95965
DESCRIPTION:Introduction to Digital/Online Marketing\n\n06/30/26 09:00 AM PST\n - 06/30/26 11:00 AM PST\Description:\nThis workshop will focus on discussing introductory methods of digital and online marketing.  You will learn the basics about Search Engine Optimization (SEO), Search Engine Marketing (SEM), Social Media Marketing (SMM), as well as mobile, affiliate, and online ad marketing. In this class, you will be provided real-world examples of which type of marketing may best fit your marketing goals, as well as ideas for your future marketing needs. This class is perfect for individuals who are either first getting started in digital/online marketing, or those who would like a little more information on how to develop their current digital/online marketing\Details:\nCost: Free\nRegister Here:  https://www.buttecollegesbdc.com/events/\n \Location:\nBarrell Room\n1566 Huntoon St.\nOroville, CA 95965
X-ALT-DESC;FMTTYPE=text/html:Introduction to Digital/Online Marketing<br /><br />06/30/26 09:00 AM PST - 06/30/26 11:00 AM PST<br />Description:<br />This workshop will focus on discussing introductory methods of digital and online marketing.&nbsp; You will learn the basics about Search Engine Optimization (SEO), Search Engine Marketing (SEM), Social Media Marketing (SMM), as well as mobile, affiliate, and online ad marketing. In this class, you will be provided real-world examples of which type of marketing may best fit your marketing goals, as well as ideas for your future marketing needs. This class is perfect for individuals who are either first getting started in digital/online marketing, or those who would like a little more information on how to develop their current digital/online marketing<br />Details:<br />Cost: Free<br />
Register Here: &nbsp;https://www.buttecollegesbdc.com/events/<br />
&nbsp;<br />Location:<br />Barrell Room<br />1566 Huntoon St.<br />Oroville, CA 95965
PRIORITY:3
TRANSP:TRANSPARENT
BEGIN:VALARM
TRIGGER:-PT5M
ACTION:DISPLAY
DESCRIPTION:Reminder
END:VALARM
END:VEVENT
END:VCALENDAR
