BEGIN:VCALENDAR
VERSION:2.0
CALSCALE:GREGORIAN
METHOD:PUBLISH
PRODID://OROV//1416860
BEGIN:VEVENT
DTSTAMP:20260422T092448
VTIMEZONE:America/Los_Angeles
DTSTART:20260315T200000Z
DTEND:20260315T230000Z
UID:1416860
SUMMARY: VFW CHILLI COOKOFF
LOCATION:Oroville VFW, 1901 Elgin St., Oroville, CA, 95965
DESCRIPTION:VFW CHILLI COOKOFF\n\n03/15/26 01:00 PM PST\n - 03/15/26 04:00 PM PST\Description:\nThis is a CHILLI COOKOFF SUPPORTING OUR VFW\Details:\nOpen to public. All info on flyer\Location:\nOroville VFW\n1901 Elgin St.\nOroville, CA 95965
X-ALT-DESC;FMTTYPE=text/html: VFW CHILLI COOKOFF<br /><br />03/15/26 01:00 PM PST - 03/15/26 04:00 PM PST<br />Description:<br />This is a CHILLI COOKOFF SUPPORTING OUR VFW<br />Details:<br />Open to public. All info on flyer<br />Location:<br />Oroville VFW<br />1901 Elgin St.<br />Oroville, CA 95965
PRIORITY:3
TRANSP:TRANSPARENT
BEGIN:VALARM
TRIGGER:-PT5M
ACTION:DISPLAY
DESCRIPTION:Reminder
END:VALARM
END:VEVENT
END:VCALENDAR
