BEGIN:VCALENDAR
VERSION:2.0
CALSCALE:GREGORIAN
METHOD:PUBLISH
PRODID://OROV//1405941
BEGIN:VEVENT
DTSTAMP:20260422T110842
VTIMEZONE:America/Los_Angeles
DTSTART:20260227T170000Z
DTEND:20260227T200000Z
UID:1405941
SUMMARY:Practical AI: Transforming Your Workflow
LOCATION:The Training Place - Butte College, 2480 Notre Dame Blvd, Chico, CA, 95928
DESCRIPTION:Practical AI: Transforming Your Workflow\n\n02/27/26 09:00 AM PST\n - 02/27/26 12:00 PM PST\Description:\nNOTE: Bring your own laptop, or use one provided in the classroom. A trusted and safe AI Platform will be provided for the class and 30 days after completion. 2-Part Series March 2nd & March 9th, 2026 - 9AM-12PM\n\nAI has the potential to transform professional workflows, but leveraging it effectively requires more than just basic usage. This two-part workshop series helps professionals across all departments develop a strategic understanding of AI while gaining extensive hands-on practice. Participants will master advanced prompting techniques, create custom AI assistants, and develop practical AI integration plans to enhance productivity and efficiency.\n\nLearning Objectives:\n\n	Understand how large language models work and their real-world applications.\n	Identify and mitigate common AI pitfalls like hallucinations and bias.\n	Apply advanced prompting techniques for more accurate, detailed results.\n	Design custom AI assistants tailored to specific business needs.\n\nWhy This Matters for Your Organization:\n\n\n	Boost productivity by integrating AI into daily workflows.\n	Improve accuracy with AI-driven insights and refined outputs.\n	Empower teams with AI tools customized for their roles and challenges.\n\nReady to take AI from theory to practice? Register today and start optimizing your workflow with AI!\n\nTrainer Bio: Emiliano equips leaders with practical strategies to navigate workplace change, enhance team dynamics, and improve communication. As co-founder of Soligo, an AI-driven learning company, he focuses on using technology to amplify human potential. His engaging, results-driven training creates lasting impact.\n\nETP members contact: etp@butte.edu\n \Details:\nTraining for everyone.\nPlease see attached link for more information. \Location:\nThe Training Place - Butte College\n2480 Notre Dame Blvd\nChico, CA 95928
X-ALT-DESC;FMTTYPE=text/html:Practical AI: Transforming Your Workflow<br /><br />02/27/26 09:00 AM PST - 02/27/26 12:00 PM PST<br />Description:<br /><strong><em>NOTE:</em></strong><em>&nbsp;Bring your own laptop, or use one provided in the classroom. A trusted and safe AI Platform will be provided for the class and 30 days after completion. <strong>2-Part Series March 2nd &amp; March 9th, 2026 - 9AM-12PM</strong></em><br />
<br />
AI has the potential to transform professional workflows, but leveraging it effectively requires more than just basic usage. This two-part workshop series helps professionals across all departments develop a strategic understanding of AI while gaining extensive hands-on practice. Participants will master advanced prompting techniques, create custom AI assistants, and develop practical AI integration plans to enhance productivity and efficiency.<br />
<br />
<strong>Learning Objectives:</strong>
<ul>
	<li>Understand how large language models work and their real-world applications.</li>
	<li>Identify and mitigate common AI pitfalls like hallucinations and bias.</li>
	<li>Apply advanced prompting techniques for more accurate, detailed results.</li>
	<li>Design custom AI assistants tailored to specific business needs.</li>
</ul>
<strong>Why This Matters for Your Organization:</strong>

<ul>
	<li>Boost productivity by integrating AI into daily workflows.</li>
	<li>Improve accuracy with AI-driven insights and refined outputs.</li>
	<li>Empower teams with AI tools customized for their roles and challenges.</li>
</ul>
Ready to take AI from theory to practice? Register today and start optimizing your workflow with AI!<br />
<br />
<u>Trainer Bio:</u>&nbsp;Emiliano equips leaders with practical strategies to navigate workplace change, enhance team dynamics, and improve communication. As co-founder of Soligo, an AI-driven learning company, he focuses on using technology to amplify human potential. His engaging, results-driven training creates lasting impact.<br />
<br />
<strong>ETP members contact:</strong>&nbsp;etp@butte.edu<br />
&nbsp;<br />Details:<br />Training for everyone.<br />
Please see attached link for more information.&nbsp;<br />Location:<br />The Training Place - Butte College<br />2480 Notre Dame Blvd<br />Chico, CA 95928
PRIORITY:3
TRANSP:TRANSPARENT
BEGIN:VALARM
TRIGGER:-PT5M
ACTION:DISPLAY
DESCRIPTION:Reminder
END:VALARM
END:VEVENT
END:VCALENDAR
