BEGIN:VCALENDAR
VERSION:2.0
CALSCALE:GREGORIAN
METHOD:PUBLISH
PRODID://OROV//1405940
BEGIN:VEVENT
DTSTAMP:20260422T111016
VTIMEZONE:America/Los_Angeles
DTSTART:20260226T163000Z
DTEND:20260226T193000Z
UID:1405940
SUMMARY:Developing a Collaborative Mindset
LOCATION:The Training Place - Butte College, 2480 Notre Dame Blvd, Chico, CA, 95928
DESCRIPTION:Developing a Collaborative Mindset\n\n02/26/26 08:30 AM PST\n - 02/26/26 11:30 AM PST\Description:\nThe modern workplace thrives on collaboration, yet many teams struggle with communication, trust, and effective teamwork. This interactive course leverages the FreshBiz game to provide a hands-on learning experience, helping participants develop essential collaboration strategies in a simulated business environment. Designed for professionals, managers, and team leaders, this course equips participants with the skills needed to enhance teamwork, foster innovation, and drive organizational success.\n\nLearning Objectives:\n\n	Cultivate a collaborative mindset by understanding the value of teamwork and strategic decision-making.\n	Practice effective collaboration techniques, including problem-solving, trust-building, and open communication through FreshBiz gameplay.\n	Develop actionable strategies to overcome common barriers to collaboration in professional settings.\n\nWhy This Matters for Your Organization:\n\n\n	Strengthens team dynamics and enhances workplace communication.\n	Fosters a culture of innovation by encouraging creative problem-solving.\n	Equips employees with conflict resolution skills to improve productivity and efficiency.\n\nReady to transform the way your team collaborates? Enroll today and start building a more connected, innovative workplace!\n\nDon't miss the full experience! Enroll in the complete Collaborative Leadership 6-Part Series here: https://buttethetrainingplace.coursestorm.com/course/collaborative-leadership-6-part-series\n \Details:\nTraining is for everyone.\nPlease see attached link for more information. Thank you. \Location:\nThe Training Place - Butte College\n2480 Notre Dame Blvd\nChico, CA 95928
X-ALT-DESC;FMTTYPE=text/html:Developing a Collaborative Mindset<br /><br />02/26/26 08:30 AM PST - 02/26/26 11:30 AM PST<br />Description:<br />The modern workplace thrives on collaboration, yet many teams struggle with communication, trust, and effective teamwork. This interactive course leverages the FreshBiz game to provide a hands-on learning experience, helping participants develop essential collaboration strategies in a simulated business environment. Designed for professionals, managers, and team leaders, this course equips participants with the skills needed to enhance teamwork, foster innovation, and drive organizational success.<br />
<br />
<strong>Learning Objectives:</strong>
<ul>
	<li>Cultivate a collaborative mindset by understanding the value of teamwork and strategic decision-making.</li>
	<li>Practice effective collaboration techniques, including problem-solving, trust-building, and open communication through FreshBiz gameplay.</li>
	<li>Develop actionable strategies to overcome common barriers to collaboration in professional settings.</li>
</ul>
<strong>Why This Matters for Your Organization:</strong>

<ul>
	<li>Strengthens team dynamics and enhances workplace communication.</li>
	<li>Fosters a culture of innovation by encouraging creative problem-solving.</li>
	<li>Equips employees with conflict resolution skills to improve productivity and efficiency.</li>
</ul>
<strong>Ready to transform the way your team collaborates? Enroll today and start building a more connected, innovative workplace!</strong><br />
<br />
<strong><em>Don't miss the full experience! Enroll in the complete Collaborative Leadership 6-Part Series here:</em></strong>&nbsp;https://buttethetrainingplace.coursestorm.com/course/collaborative-leadership-6-part-series<br />
&nbsp;<br />Details:<br />Training is for everyone.<br />
Please see attached link for more information. Thank you.&nbsp;<br />Location:<br />The Training Place - Butte College<br />2480 Notre Dame Blvd<br />Chico, CA 95928
PRIORITY:3
TRANSP:TRANSPARENT
BEGIN:VALARM
TRIGGER:-PT5M
ACTION:DISPLAY
DESCRIPTION:Reminder
END:VALARM
END:VEVENT
END:VCALENDAR
