BEGIN:VCALENDAR
VERSION:2.0
CALSCALE:GREGORIAN
METHOD:PUBLISH
PRODID://OROV//1405939
BEGIN:VEVENT
DTSTAMP:20260422T105604
VTIMEZONE:America/Los_Angeles
DTSTART:20260225T210000Z
DTEND:20260226T000000Z
UID:1405939
SUMMARY:Computer Basics: Applications - Intro to Office 365
LOCATION:The Training Place - Butte College, 2480 Notre Dame Blvd, Chico, CA, 95928
DESCRIPTION:Computer Basics: Applications - Intro to Office 365\n\n02/25/26 01:00 PM PST\n - 02/25/26 04:00 PM PST\Description:\n*Class Held In-Person* Computers Provided if needed\n\nMastering Microsoft Office is essential for everyday productivity, yet many users lack the foundational skills to confidently use Excel, Word, and PowerPoint. This interactive training session equips participants with practical tools and real-world applications to create polished documents, analyze data, and deliver effective presentations. Designed for students, office staff, and professionals, this course is perfect for anyone looking to build or refresh their core Office skills.\n\nLearning Objectives:\n\n	Create and format documents, spreadsheets, and presentations using Microsoft.\n	Apply time-saving tips, formatting techniques, and basic functions to enhance productivity across all Office applications.\n	Organize, manage, print, and share files efficiently across the Microsoft Office suite.\n\nWhy This Matters to You:\n\n\n	Improves team efficiency by standardizing digital document workflows.\n	Reduces training time by boosting baseline Office proficiency.\n	Empowers staff to produce professional documents, data reports, and presentations with confidence.\n\nUnlock the full potential of your team with essential Office skills—sign up today and start making Microsoft Office work for you!\n\nTrainer Bio: John Dahlgren has over 25 years of industry experience in technology, manufacturing, and workforce training. He teaches in the Butte College Drafting Technology and Engineering programs and specializes in Excel training, digital literacy, and workplace productivity tools.\n\nETP members contact: etp@butte.edu\n \Details:\nTraining is for everyone.\nPlease see attached link for more information. Thank you. \Location:\nThe Training Place - Butte College\n2480 Notre Dame Blvd\nChico, CA 95928
X-ALT-DESC;FMTTYPE=text/html:Computer Basics: Applications - Intro to Office 365<br /><br />02/25/26 01:00 PM PST - 02/25/26 04:00 PM PST<br />Description:<br /><strong><em>*Class Held In-Person* Computers Provided if needed</em></strong><br />
<br />
Mastering Microsoft Office is essential for everyday productivity, yet many users lack the foundational skills to confidently use Excel, Word, and PowerPoint. This interactive training session equips participants with practical tools and real-world applications to create polished documents, analyze data, and deliver effective presentations. Designed for students, office staff, and professionals, this course is perfect for anyone looking to build or refresh their core Office skills.<br />
<br />
<strong>Learning Objectives:</strong>
<ul>
	<li>Create and format documents, spreadsheets, and presentations using Microsoft.</li>
	<li>Apply time-saving tips, formatting techniques, and basic functions to enhance productivity across all Office applications.</li>
	<li>Organize, manage, print, and share files efficiently across the Microsoft Office suite.</li>
</ul>
<strong>Why This Matters to You:</strong>

<ul>
	<li>Improves team efficiency by standardizing digital document workflows.</li>
	<li>Reduces training time by boosting baseline Office proficiency.</li>
	<li>Empowers staff to produce professional documents, data reports, and presentations with confidence.</li>
</ul>
<strong>Unlock the full potential of your team with essential Office skills&mdash;sign up today and start making Microsoft Office work for you!</strong><br />
<br />
<u>Trainer Bio:</u>&nbsp;John Dahlgren has over 25 years of industry experience in technology, manufacturing, and workforce training. He teaches in the Butte College Drafting Technology and Engineering programs and specializes in Excel training, digital literacy, and workplace productivity tools.<br />
<br />
<strong>ETP members contact:</strong>&nbsp;etp@butte.edu<br />
&nbsp;<br />Details:<br />Training is for everyone.<br />
Please see attached link for more information. Thank you.&nbsp;<br />Location:<br />The Training Place - Butte College<br />2480 Notre Dame Blvd<br />Chico, CA 95928
PRIORITY:3
TRANSP:TRANSPARENT
BEGIN:VALARM
TRIGGER:-PT5M
ACTION:DISPLAY
DESCRIPTION:Reminder
END:VALARM
END:VEVENT
END:VCALENDAR
