BEGIN:VCALENDAR
VERSION:2.0
CALSCALE:GREGORIAN
METHOD:PUBLISH
PRODID://OROV//1405937
BEGIN:VEVENT
DTSTAMP:20260422T105432
VTIMEZONE:America/Chicago
DTSTART:20260219T150000Z
DTEND:20260219T180000Z
UID:1405937
SUMMARY:Transform Workplace Drama: 3 Vital Questions
LOCATION:The Training Place - Butte College, 2480 Notre Dame Blvd, Chico, CA, 95928
DESCRIPTION:Transform Workplace Drama: 3 Vital Questions\n\n02/19/26 09:00 AM CST\n - 02/19/26 12:00 PM CST\Description:\n*Class Held In-Person*\n\nWorkplace drama is draining—whether it’s a difficult colleague, a critical boss, or just the daily grind, it leaves many professionals feeling stuck and reactive. This interactive 3-hour workshop offers practical strategies to shift from frustration to clarity by helping participants identify unproductive patterns and step into more empowering roles. Ideal for professionals, team members, and managers ready to increase their self-awareness, improve collaboration, and lead with greater purpose.\n\nLearning Objectives:\n\n	Recognize personal triggers and shift out of drama into constructive, empowering responses.\n	Apply the 3 Vital Questions® framework to make creative, purpose-driven decisions.\n	Improve communication and leadership by using the Creator, Challenger, and Coach roles.\n\nWhy This Matters for Your Organization:\n\n\n	Reduce tension and emotional reactivity in workplace interactions.\n	Foster a more collaborative and emotionally intelligent team environment.\n	Improve decision-making, engagement, and overall work satisfaction.\n\nReady to move from workplace tension to purpose-driven leadership? Register today and discover the power of mindset transformation!\n\nTrainer Bio: Laura Cootsona is a certified trainer for the 3 Vital Questions® and The Power of TED (The Empowerment Dynamic) frameworks. With over 30 years of experience as a management consultant—22 of them in Chico, CA—Laura empowers individuals and teams to work together more effectively and align their contributions with what matters most.\n \Details:\nTraining is for everyone.\nâ€‹Please see attached link for more information. \Location:\nThe Training Place - Butte College\n2480 Notre Dame Blvd\nChico, CA 95928
X-ALT-DESC;FMTTYPE=text/html:Transform Workplace Drama: 3 Vital Questions<br /><br />02/19/26 09:00 AM CST - 02/19/26 12:00 PM CST<br />Description:<br /><strong>*Class Held In-Person*</strong><br />
<br />
Workplace drama is draining&mdash;whether it&rsquo;s a difficult colleague, a critical boss, or just the daily grind, it leaves many professionals feeling stuck and reactive. This interactive 3-hour workshop offers practical strategies to shift from frustration to clarity by helping participants identify unproductive patterns and step into more empowering roles. Ideal for professionals, team members, and managers ready to increase their self-awareness, improve collaboration, and lead with greater purpose.<br />
<br />
<strong>Learning Objectives:</strong>
<ul>
	<li>Recognize personal triggers and shift out of drama into constructive, empowering responses.</li>
	<li>Apply the 3 Vital Questions&reg; framework to make creative, purpose-driven decisions.</li>
	<li>Improve communication and leadership by using the Creator, Challenger, and Coach roles.</li>
</ul>
<strong>Why This Matters for Your Organization:</strong>

<ul>
	<li>Reduce tension and emotional reactivity in workplace interactions.</li>
	<li>Foster a more collaborative and emotionally intelligent team environment.</li>
	<li>Improve decision-making, engagement, and overall work satisfaction.</li>
</ul>
<strong><em>Ready to move from workplace tension to purpose-driven leadership? Register today and discover the power of mindset transformation!</em></strong><br />
<br />
<strong><u>Trainer Bio:&nbsp;</u></strong>Laura Cootsona is a certified trainer for the 3 Vital Questions&reg; and The Power of TED (The Empowerment Dynamic) frameworks. With over 30 years of experience as a management consultant&mdash;22 of them in Chico, CA&mdash;Laura empowers individuals and teams to work together more effectively and align their contributions with what matters most.<br />
&nbsp;<br />Details:<br />Training is for everyone.<br />
â€‹Please see attached link for more information.&nbsp;<br />Location:<br />The Training Place - Butte College<br />2480 Notre Dame Blvd<br />Chico, CA 95928
PRIORITY:3
TRANSP:TRANSPARENT
BEGIN:VALARM
TRIGGER:-PT5M
ACTION:DISPLAY
DESCRIPTION:Reminder
END:VALARM
END:VEVENT
END:VCALENDAR
