BEGIN:VCALENDAR
VERSION:2.0
CALSCALE:GREGORIAN
METHOD:PUBLISH
PRODID://OROV//1405936
BEGIN:VEVENT
DTSTAMP:20260422T105345
VTIMEZONE:America/Los_Angeles
DTSTART:20260212T163000Z
DTEND:20260212T193000Z
UID:1405936
SUMMARY:Authentic Leadership
LOCATION:The Training Place - Butte College, 2480 Notre Dame Blvd, Chico, CA, 95928
DESCRIPTION:Authentic Leadership\n\n02/12/26 08:30 AM PST\n - 02/12/26 11:30 AM PST\Description:\n*Class Held In-Person*\n\nAuthentic Leadership: Building Trust Through Genuine Leadership\n\nLeadership is more than just titles and techniques—it’s about authenticity. In a world where trust is the foundation of success, Authentic Leadership equips participants with the tools to lead by being true to themselves. This training focuses on aligning values, actions, and communication to foster genuine relationships and inspire trust, allowing leaders to make a lasting impact in their teams and organizations.\n\nLearning Objectives:\n\n	Understand the Core of Authentic Leadership: Explore the principles of authenticity and how aligning values, behaviors, and actions builds trust.\n	Develop a Personal Leadership Mission: Craft a personal mission statement grounded in core values that guides leadership decisions and actions.\n	Enhance Trust and Credibility: Learn strategies to strengthen trust through transparent, values-driven leadership, and effective communication.\n\nWhy This Matters to Your Organization:\n\n\n	Build Trust Across Teams: Authentic leaders foster an environment of trust, leading to stronger collaboration, engagement, and morale.    \n	Improve Leadership Impact: Aligning actions with core values ensures consistency, empowering leaders to inspire and motivate their teams.   \n	Strengthen Organizational Culture: Cultivate a culture where transparency, trust, and integrity are at the forefront, leading to long-term success.\n\nReady to lead with authenticity and trust? Register today and transform your leadership approach by becoming the genuine, impactful leader your team needs!\n\nTrainer Bio: Dr. Joc Clark has 25+ years of experience in leadership and organizational change. He specializes in strengths-based leadership and coaching, using experiential methods to foster collaboration and transformation. Joc holds a PhD in Leadership & Change Management and an MEd in Organizational Development.\n\nETP members contact: etp@butte.edu\n \Details:\nTraining is for everyone.\nPlease see attached link for more information. Thank you. \Location:\nThe Training Place - Butte College\n2480 Notre Dame Blvd\nChico, CA 95928
X-ALT-DESC;FMTTYPE=text/html:Authentic Leadership<br /><br />02/12/26 08:30 AM PST - 02/12/26 11:30 AM PST<br />Description:<br /><em>*Class Held In-Person*</em><br />
<br />
Authentic Leadership: Building Trust Through Genuine Leadership<br />
<br />
Leadership is more than just titles and techniques&mdash;it&rsquo;s about authenticity. In a world where trust is the foundation of success, Authentic Leadership equips participants with the tools to lead by being true to themselves. This training focuses on aligning values, actions, and communication to foster genuine relationships and inspire trust, allowing leaders to make a lasting impact in their teams and organizations.<br />
<br />
Learning Objectives:
<ul>
	<li>Understand the Core of Authentic Leadership:&nbsp;Explore the principles of authenticity and how aligning values, behaviors, and actions builds trust.</li>
	<li>Develop a Personal Leadership Mission:&nbsp;Craft a personal mission statement grounded in core values that guides leadership decisions and actions.</li>
	<li>Enhance Trust and Credibility:&nbsp;Learn strategies to strengthen trust through transparent, values-driven leadership, and effective communication.</li>
</ul>
Why This Matters to Your Organization:

<ul>
	<li>Build Trust Across Teams:&nbsp;Authentic leaders foster an environment of trust, leading to stronger collaboration, engagement, and morale.&nbsp;&nbsp;&nbsp;&nbsp;</li>
	<li>Improve Leadership Impact:&nbsp;Aligning actions with core values ensures consistency, empowering leaders to inspire and motivate their teams.&nbsp;&nbsp;&nbsp;</li>
	<li>Strengthen Organizational Culture:&nbsp;Cultivate a culture where transparency, trust, and integrity are at the forefront, leading to long-term success.</li>
</ul>
Ready to lead with authenticity and trust?&nbsp;Register today and transform your leadership approach by becoming the genuine, impactful leader your team needs!<br />
<br />
<u>Trainer Bio:&nbsp;</u>Dr. Joc Clark has 25+ years of experience in leadership and organizational change. He specializes in strengths-based leadership and coaching, using experiential methods to foster collaboration and transformation. Joc holds a PhD in Leadership &amp; Change Management and an MEd in Organizational Development.<br />
<br />
<strong>ETP members contact:&nbsp;etp@butte.edu</strong><br />
&nbsp;<br />Details:<br />Training is for everyone.<br />
Please see attached link for more information. Thank you.&nbsp;<br />Location:<br />The Training Place - Butte College<br />2480 Notre Dame Blvd<br />Chico, CA 95928
PRIORITY:3
TRANSP:TRANSPARENT
BEGIN:VALARM
TRIGGER:-PT5M
ACTION:DISPLAY
DESCRIPTION:Reminder
END:VALARM
END:VEVENT
END:VCALENDAR
