BEGIN:VCALENDAR
VERSION:2.0
CALSCALE:GREGORIAN
METHOD:PUBLISH
PRODID://OROV//1405934
BEGIN:VEVENT
DTSTAMP:20260422T105554
VTIMEZONE:America/Los_Angeles
DTSTART:20260210T163000Z
DTEND:20260210T193000Z
UID:1405934
SUMMARY:Collaborative Leadership
LOCATION:The Training Place - Butte College, 2480 Notre Dame Blvd, Chico, CA, 95965
DESCRIPTION:Collaborative Leadership\n\n02/10/26 08:30 AM PST\n - 02/10/26 11:30 AM PST\Description:\n*Class Held In-Person*\n\nIn today’s fast-paced work environment, effective collaboration is essential for driving innovation, solving problems, and achieving success. This training helps leaders create a culture of teamwork, equipping them with the tools and strategies to foster trust, build consensus, and empower their teams to work together seamlessly.\n\nLearning Objectives:\n\n	Assess Collaborative Environments – Evaluate team collaboration using the 10 key themes of collaborative practice.\n	Enhance Leadership Skills – Discover and leverage everyday superpowers that make collaborative leaders effective.\n	Build Trust & Consensus – Cultivate an environment where trust and shared responsibility lead to collective success.\n\nWhy This Matters to You:\n\n\n	Boost team productivity by fostering efficient, goal-oriented collaboration.\n	Strengthen relationships by enhancing communication and reducing workplace conflict.\n	Drive innovation by bringing diverse perspectives together for creative problem-solving.\n\nReady to transform teamwork through collaborative leadership? Register now and empower your teams to achieve more together!\n\nTrainer Bio: Dr. Joc Clark has over 25 years of experience in leadership and organizational change, specializing in strengths-based leadership and coaching. With a PhD in Leadership & Change Management and an MEd in Organizational Development, Joc uses experiential methods to help organizations foster collaboration and drive transformation.\n\nETP members contact: etp@butte.edu\n \Details:\nTraining for everyone.\nPlease see attached link for more information. Thank you. \Location:\nThe Training Place - Butte College\n2480 Notre Dame Blvd\nChico, CA 95965
X-ALT-DESC;FMTTYPE=text/html:Collaborative Leadership<br /><br />02/10/26 08:30 AM PST - 02/10/26 11:30 AM PST<br />Description:<br /><strong><em>*Class Held In-Person*</em></strong><br />
<br />
In today&rsquo;s fast-paced work environment, effective collaboration is essential for driving innovation, solving problems, and achieving success. This training helps leaders create a culture of teamwork, equipping them with the tools and strategies to foster trust, build consensus, and empower their teams to work together seamlessly.<br />
<br />
<strong>Learning Objectives:</strong>
<ul>
	<li>Assess Collaborative Environments &ndash; Evaluate team collaboration using the 10 key themes of collaborative practice.</li>
	<li>Enhance Leadership Skills &ndash; Discover and leverage everyday superpowers that make collaborative leaders effective.</li>
	<li>Build Trust &amp; Consensus &ndash; Cultivate an environment where trust and shared responsibility lead to collective success.</li>
</ul>
<strong>Why This Matters to You:</strong>

<ul>
	<li>Boost team productivity by fostering efficient, goal-oriented collaboration.</li>
	<li>Strengthen relationships by enhancing communication and reducing workplace conflict.</li>
	<li>Drive innovation by bringing diverse perspectives together for creative problem-solving.</li>
</ul>
<strong>Ready to transform teamwork through collaborative leadership? Register now and empower your teams to achieve more together!</strong><br />
<br />
<u>Trainer Bio:</u>&nbsp;Dr. Joc Clark has over 25 years of experience in leadership and organizational change, specializing in strengths-based leadership and coaching. With a PhD in Leadership &amp; Change Management and an MEd in Organizational Development, Joc uses experiential methods to help organizations foster collaboration and drive transformation.<br />
<br />
<strong>ETP members contact:</strong>&nbsp;etp@butte.edu<br />
&nbsp;<br />Details:<br />Training for everyone.<br />
Please see attached link for more information. Thank you.&nbsp;<br />Location:<br />The Training Place - Butte College<br />2480 Notre Dame Blvd<br />Chico, CA 95965
PRIORITY:3
TRANSP:TRANSPARENT
BEGIN:VALARM
TRIGGER:-PT5M
ACTION:DISPLAY
DESCRIPTION:Reminder
END:VALARM
END:VEVENT
END:VCALENDAR
