BEGIN:VCALENDAR
VERSION:2.0
CALSCALE:GREGORIAN
METHOD:PUBLISH
PRODID://OROV//1405933
BEGIN:VEVENT
DTSTAMP:20260422T110557
VTIMEZONE:America/Los_Angeles
DTSTART:20260206T163000Z
DTEND:20260206T193000Z
UID:1405933
SUMMARY:Make Meetings Work
LOCATION:The Training Place - Butte College, 2480 Notre Dame Blvd, Chico, CA, 95965
DESCRIPTION:Make Meetings Work\n\n02/06/26 08:30 AM PST\n - 02/06/26 11:30 AM PST\Description:\n*Class Held In-Person*\n\nUnproductive meetings waste time and hinder progress. This training equips you with the skills to plan, facilitate, and follow up on meetings to drive meaningful business results. Learn intervention techniques to keep discussions on track, engage participants effectively, and lead productive virtual meetings. Sample templates are provided to streamline your process.\n\nLearning Objectives:\n\n	Use intervention strategies to keep meetings focused and productive.\n	Ensure active participation and commitment to meeting outcomes.\n	Lead effective virtual meetings with clear strategies and engagement techniques.\n\nWhy This Matters for Your Organization:\n\n\n	Reduce time wasted in unproductive meetings.\n	Improve team collaboration and decision-making.\n	Enhance efficiency in both in-person and virtual meetings.\n\nReady to lead meetings that drive results? Register today and transform the way your team collaborates!\n\nTrainer Bio: Dr. Joc Clark has over 25 years of experience in leadership and organizational change, specializing in strengths-based leadership and coaching. Holding a PhD in Leadership & Change Management and an MEd in Organizational Development, Joc uses experiential methods to foster collaboration and drive transformation.\n\nETP members contact: etp@butte.edu\n \Details:\nTraining for everyone.\nPlease see attached link for more information. Thank you. \Location:\nThe Training Place - Butte College\n2480 Notre Dame Blvd\nChico, CA 95965
X-ALT-DESC;FMTTYPE=text/html:Make Meetings Work<br /><br />02/06/26 08:30 AM PST - 02/06/26 11:30 AM PST<br />Description:<br /><em>*Class Held In-Person*</em><br />
<br />
Unproductive meetings waste time and hinder progress. This training equips you with the skills to plan, facilitate, and follow up on meetings to drive meaningful business results. Learn intervention techniques to keep discussions on track, engage participants effectively, and lead productive virtual meetings. Sample templates are provided to streamline your process.<br />
<br />
Learning Objectives:
<ul>
	<li>Use intervention strategies to keep meetings focused and productive.</li>
	<li>Ensure active participation and commitment to meeting outcomes.</li>
	<li>Lead effective virtual meetings with clear strategies and engagement techniques.</li>
</ul>
Why This Matters for Your Organization:

<ul>
	<li>Reduce time wasted in unproductive meetings.</li>
	<li>Improve team collaboration and decision-making.</li>
	<li>Enhance efficiency in both in-person and virtual meetings.</li>
</ul>
Ready to lead meetings that drive results? Register today and transform the way your team collaborates!<br />
<br />
<u>Trainer Bio:</u>&nbsp;Dr. Joc Clark has over 25 years of experience in leadership and organizational change, specializing in strengths-based leadership and coaching. Holding a PhD in Leadership &amp; Change Management and an MEd in Organizational Development, Joc uses experiential methods to foster collaboration and drive transformation.<br />
<br />
ETP members contact:&nbsp;<a href="mailto:etp@butte.edu">etp@butte.edu</a><br />
&nbsp;<br />Details:<br />Training for everyone.<br />
Please see attached link for more information. Thank you.&nbsp;<br />Location:<br />The Training Place - Butte College<br />2480 Notre Dame Blvd<br />Chico, CA 95965
PRIORITY:3
TRANSP:TRANSPARENT
BEGIN:VALARM
TRIGGER:-PT5M
ACTION:DISPLAY
DESCRIPTION:Reminder
END:VALARM
END:VEVENT
END:VCALENDAR
