BEGIN:VCALENDAR
VERSION:2.0
CALSCALE:GREGORIAN
METHOD:PUBLISH
PRODID://OROV//1405932
BEGIN:VEVENT
DTSTAMP:20260422T105432
VTIMEZONE:America/Los_Angeles
DTSTART:20260205T163000Z
DTEND:20260205T193000Z
UID:1405932
SUMMARY:Leadership Strengths
LOCATION:The Training Place - Butte College, 2480 Notre Dame Blvd, Chico, CA, 95965
DESCRIPTION:Leadership Strengths\n\n02/05/26 08:30 AM PST\n - 02/05/26 11:30 AM PST\Description:\n*Class Held In-Person*\n\nGreat leaders understand their strengths and use them to inspire, motivate, and drive their teams forward. This course helps participants identify their unique leadership strengths, apply them effectively, and foster collaboration for greater team success. Designed for professionals at all levels, this training provides valuable insights into leveraging personal strengths to maximize leadership impact.\n\nLearning Objections:\n\n	Identify and validate your top five leadership strengths.\n	Develop strategies to optimize strengths for greater influence and effectiveness.\n	Leverage complementary strengths within teams to enhance collaboration.\n\nWhy This Matters for Your Organization:\n\n\n	Improve leadership effectiveness by maximizing individual strengths.\n	Strengthen team dynamics through collaboration and trust.\n	Enhance communication and engagement for higher productivity.\n\nReady to unlock your leadership potential? Register today and take the next step in your leadership journey!\n\nTrainer Bio: Dr. Joc Clark has over 25 years of experience in leadership and organizational change, specializing in strengths-based leadership and coaching. He holds a PhD in Leadership & Change Management and an MEd in Organizational Development, using experiential methods to drive collaboration and transformation.\n\nEPT members contact: etp@butte.edu\n \Details:\nTraining for everyone.\nPlease see attached link for more information. Thank you. \Location:\nThe Training Place - Butte College\n2480 Notre Dame Blvd\nChico, CA 95965
X-ALT-DESC;FMTTYPE=text/html:Leadership Strengths<br /><br />02/05/26 08:30 AM PST - 02/05/26 11:30 AM PST<br />Description:<br /><em>*Class Held In-Person*</em><br />
<br />
Great leaders understand their strengths and use them to inspire, motivate, and drive their teams forward. This course helps participants identify their unique leadership strengths, apply them effectively, and foster collaboration for greater team success. Designed for professionals at all levels, this training provides valuable insights into leveraging personal strengths to maximize leadership impact.<br />
<br />
Learning Objections:
<ul>
	<li>Identify and validate your top five leadership strengths.</li>
	<li>Develop strategies to optimize strengths for greater influence and effectiveness.</li>
	<li>Leverage complementary strengths within teams to enhance collaboration.</li>
</ul>
Why This Matters for Your Organization:

<ul>
	<li>Improve leadership effectiveness by maximizing individual strengths.</li>
	<li>Strengthen team dynamics through collaboration and trust.</li>
	<li>Enhance communication and engagement for higher productivity.</li>
</ul>
Ready to unlock your leadership potential? Register today and take the next step in your leadership journey!<br />
<br />
<u>Trainer Bio:</u>&nbsp;Dr. Joc Clark has over 25 years of experience in leadership and organizational change, specializing in strengths-based leadership and coaching. He holds a PhD in Leadership &amp; Change Management and an MEd in Organizational Development, using experiential methods to drive collaboration and transformation.<br />
<br />
EPT members contact:&nbsp;<a href="mailto:etp@butte.edu">etp@butte.edu</a><br />
&nbsp;<br />Details:<br />Training for everyone.<br />
Please see attached link for more information. Thank you.&nbsp;<br />Location:<br />The Training Place - Butte College<br />2480 Notre Dame Blvd<br />Chico, CA 95965
PRIORITY:3
TRANSP:TRANSPARENT
BEGIN:VALARM
TRIGGER:-PT5M
ACTION:DISPLAY
DESCRIPTION:Reminder
END:VALARM
END:VEVENT
END:VCALENDAR
