BEGIN:VCALENDAR
VERSION:2.0
CALSCALE:GREGORIAN
METHOD:PUBLISH
PRODID://OROV//1381707
BEGIN:VEVENT
DTSTAMP:20260419T191825
VTIMEZONE:America/Chicago
DTSTART:20251023T213000Z
DTEND:20251023T233000Z
UID:1381707
SUMMARY:Halloween Party
LOCATION:currier square shopping center , 2325 Myers St, Oroville, CA, 95965
DESCRIPTION:Halloween Party\n\n10/23/25 04:30 PM CST\n - 10/23/25 06:30 PM CST\Description:\nCurrier Square invites the community to join in a spooktacular evening of fun at its annual Halloween Party on Thursday, October 23rd from 4:30 PM to 6:30 PM. This free-to-attend event will feature a variety of festive activities and entertainment for families of all ages.\n \nGuests can enjoy:\n\n	ðŸŽ¨ Face Painting and Balloon Twisting\n	ðŸŽ¶ A lively DJ Dance Party\n	ðŸŽƒ Professional Pumpkin Carving Demonstrations\n	ðŸ¬ Candy Lane, where children can stroll down a festive path to fill their goodie bags with sweet surprises\n	ðŸ‘» A special surprise character appearance perfect for photos and meet-and-greets (hint: think spider webs!)\n\n \nCostumes are strongly encouraged to add to the festive spirit.\n \nWhile admission is free, Currier Square will be accepting donations during the event, with 100% of proceeds going to support the Butte County Food Bank, helping to provide meals for families in need.\n \n“This is one of our favorite community traditions, and we’re thrilled to bring families together for a safe, fun, and memorable Halloween celebration, all while supporting an important cause,” said Kim Kelley, Director of Marketing, Currier Square.\n \nEvent Details:\nðŸ“ Location: Currier Square, 2325 Myers Street, Oroville, CA 95966\nðŸ“… Date: Thursday, October 23, 2025\nâ° Time: 4:30 PM – 6:30 PM\nðŸŽŸ Admission: Free (donations encouraged)\n \nFor more information, please contact Creative Marketing Arts at 916-235-9396 or visit www.curriersquare.com.  \n \Details:\nFREE\Location:\ncurrier square shopping center \n2325 Myers St\nOroville, CA 95965
X-ALT-DESC;FMTTYPE=text/html:Halloween Party<br /><br />10/23/25 04:30 PM CST - 10/23/25 06:30 PM CST<br />Description:<br />Currier Square invites the community to join in a spooktacular evening of fun at its annual <strong>Halloween Party</strong> on <strong>Thursday, October 23rd from 4:30 PM to 6:30 PM</strong>. This free-to-attend event will feature a variety of festive activities and entertainment for families of all ages.<br />
&nbsp;<br />
Guests can enjoy:
<ul>
	<li>ðŸŽ¨ <strong>Face Painting</strong> and <strong>Balloon Twisting</strong></li>
	<li>ðŸŽ¶ A lively <strong>DJ Dance Party</strong></li>
	<li>ðŸŽƒ <strong>Professional Pumpkin Carving Demonstrations</strong></li>
	<li>ðŸ¬ <strong>Candy Lane</strong>, where children can stroll down a festive path to fill their goodie bags with sweet surprises</li>
	<li>ðŸ‘» A <strong>special surprise character appearance</strong> perfect for photos and meet-and-greets (hint: think spider webs!)</li>
</ul>
&nbsp;<br />
Costumes are strongly encouraged to add to the festive spirit.<br />
&nbsp;<br />
While admission is free, Currier Square will be accepting donations during the event, with <strong>100% of proceeds going to support the Butte County Food Bank</strong>, helping to provide meals for families in need.<br />
&nbsp;<br />
<em>&ldquo;This is one of our favorite community traditions, and we&rsquo;re thrilled to bring families together for a safe, fun, and memorable Halloween celebration, all while supporting an important cause,&rdquo;</em> said Kim Kelley, Director of Marketing, Currier Square.<br />
&nbsp;<br />
<strong>Event Details:</strong><br />
ðŸ“ Location: Currier Square, 2325 Myers Street, Oroville, CA 95966<br />
ðŸ“… Date: Thursday, October 23, 2025<br />
â° Time: 4:30 PM &ndash; 6:30 PM<br />
ðŸŽŸ Admission: Free (donations encouraged)<br />
&nbsp;<br />
For more information, please contact <a href="http://www.marketingguru.com">Creative Marketing Arts</a> at 916-235-9396 or visit <a href="http://www.curriersquare.com">www.curriersquare.com</a>. &nbsp;<br />
&nbsp;<br />Details:<br />FREE<br />Location:<br />currier square shopping center <br />2325 Myers St<br />Oroville, CA 95965
PRIORITY:3
TRANSP:TRANSPARENT
BEGIN:VALARM
TRIGGER:-PT5M
ACTION:DISPLAY
DESCRIPTION:Reminder
END:VALARM
END:VEVENT
END:VCALENDAR
