BEGIN:VCALENDAR
VERSION:2.0
CALSCALE:GREGORIAN
METHOD:PUBLISH
PRODID://OROV//1377425
BEGIN:VEVENT
DTSTAMP:20260419T175124
VTIMEZONE:America/Los_Angeles
DTSTART:20251101T170000Z
DTEND:20251101T220000Z
UID:1377425
SUMMARY:Holiday Bazaar
LOCATION:F.O.E. 196 Eagles Hall, 2010 Montgomery Street, Oroville, CA, 95965
DESCRIPTION:Holiday Bazaar\n\n11/01/25 10:00 AM PST\n - 11/01/25 03:00 PM PST\Description:\n\nðŸŽ„ Holiday Bazaar ðŸŽ„\n\nðŸ—“ Saturday, November 1, 2025\nðŸ•™ 10:00 AM – 3:00 PM\nðŸ“ Eagles Hall – 2010 Montgomery\n\nâœ¨ Join us for a fun-filled day of food, shopping, and holiday cheer! âœ¨\n\nðŸŒ­ Chili Dogs & Hot Dogs\nðŸª Homemade Baked Goods\n\nðŸŽ Shop unique gifts, treats, and treasures—perfect for kicking off your holiday season!\n\nðŸ‘‰ Vendors: If you haven’t reserved your table, contact Trisha Barker at ðŸ“ž 530-990-6716.\n\nWe can’t wait to see you there! ðŸ¦…ðŸ’«\Details:\n ðŸŽ„Holiday Bazaar ðŸŽ„\n\n \n\nðŸ—“ Saturday, November 1, 2025\n\nðŸ•™ 10:00 AM – 3:00 PM\n\nðŸ“ Eagles Hall – 2010 Montgomery\n\n \n\nâœ¨ Join us for a fun-filled day of food, shopping, and holiday cheer! âœ¨\n\n \n\nðŸŒ­ Chili Dogs & Hot Dogs\n\nðŸª Homemade Baked Goods\n\n \n\nðŸŽ Shop unique gifts, treats, and treasures—perfect for kicking off your holiday season!\n\n \n\nðŸ‘‰ Vendors: If you haven’t reserved your table, contact Trisha Barker at ðŸ“ž 530-990-6716.\n\n \n\nWe can’t wait to see you there! ðŸ¦…ðŸ’«\n\n \n\n \n\Location:\nF.O.E. 196 Eagles Hall\n2010 Montgomery Street\nOroville, CA 95965
X-ALT-DESC;FMTTYPE=text/html:Holiday Bazaar<br /><br />11/01/25 10:00 AM PST - 11/01/25 03:00 PM PST<br />Description:<br /><br />
ðŸŽ„ Holiday Bazaar ðŸŽ„<br />
<br />
ðŸ—“ Saturday, November 1, 2025<br />
ðŸ•™ 10:00 AM &ndash; 3:00 PM<br />
ðŸ“ Eagles Hall &ndash; 2010 Montgomery<br />
<br />
âœ¨ Join us for a fun-filled day of food, shopping, and holiday cheer! âœ¨<br />
<br />
ðŸŒ­ Chili Dogs &amp; Hot Dogs<br />
ðŸª Homemade Baked Goods<br />
<br />
ðŸŽ Shop unique gifts, treats, and treasures&mdash;perfect for kicking off your holiday season!<br />
<br />
ðŸ‘‰ Vendors: If you haven&rsquo;t reserved your table, contact Trisha Barker at ðŸ“ž 530-990-6716.<br />
<br />
We can&rsquo;t wait to see you there! ðŸ¦…ðŸ’«<br />Details:<br /><p>&nbsp;ðŸŽ„Holiday Bazaar ðŸŽ„</p>

<p>&nbsp;</p>

<p>ðŸ—“ Saturday, November 1, 2025</p>

<p>ðŸ•™ 10:00 AM &ndash; 3:00 PM</p>

<p>ðŸ“ Eagles Hall &ndash; 2010 Montgomery</p>

<p>&nbsp;</p>

<p>âœ¨ Join us for a fun-filled day of food, shopping, and holiday cheer! âœ¨</p>

<p>&nbsp;</p>

<p>ðŸŒ­ Chili Dogs &amp; Hot Dogs</p>

<p>ðŸª Homemade Baked Goods</p>

<p>&nbsp;</p>

<p>ðŸŽ Shop unique gifts, treats, and treasures&mdash;perfect for kicking off your holiday season!</p>

<p>&nbsp;</p>

<p>ðŸ‘‰ Vendors: If you haven&rsquo;t reserved your table, contact Trisha Barker at ðŸ“ž 530-990-6716.</p>

<p>&nbsp;</p>

<p>We can&rsquo;t wait to see you there! ðŸ¦…ðŸ’«</p>

<p>&nbsp;</p>

<p>&nbsp;</p>
<br />Location:<br />F.O.E. 196 Eagles Hall<br />2010 Montgomery Street<br />Oroville, CA 95965
PRIORITY:3
TRANSP:TRANSPARENT
BEGIN:VALARM
TRIGGER:-PT5M
ACTION:DISPLAY
DESCRIPTION:Reminder
END:VALARM
END:VEVENT
END:VCALENDAR
